0.300000
0.000000
0.000000
-0.300000
581275.040089
3707113.623120
