0.300000
0.000000
0.000000
-0.300000
587080.640089
3707167.623120
