0.300000
0.000000
0.000000
-0.300000
482385.440089
3602803.923120
