0.300000
0.000000
0.000000
-0.300000
523516.340089
3582046.923120
