0.300000
0.000000
0.000000
-0.300000
564358.640089
3630751.023120
