0.300000
0.000000
0.000000
-0.300000
564313.340089
3637679.823120
