0.300000
0.000000
0.000000
-0.300000
645243.659256
3700971.482759
