0.300000
0.000000
0.000000
-0.300000
696971.459256
3729655.982759
