0.300000
0.000000
0.000000
-0.300000
702618.659256
3736712.282759
