0.300000
0.000000
0.000000
-0.300000
622438.340089
3665986.923120
