0.300000
0.000000
0.000000
-0.300000
662908.040089
3687398.523120
