0.300000
0.000000
0.000000
-0.300000
599325.440089
3644920.623120
