0.300000
0.000000
0.000000
-0.300000
593416.640089
3651789.123120
