0.300000
0.000000
0.000000
-0.300000
599255.540089
3651850.023120
