0.300000
0.000000
0.000000
-0.300000
540954.740089
3630612.723120
