0.300000
0.000000
0.000000
-0.300000
535079.240089
3637515.423120
