0.300000
0.000000
0.000000
-0.300000
540926.240089
3637541.523120
