0.300000
0.000000
0.000000
-0.300000
685382.759256
3729417.482759
