0.300000
0.000000
0.000000
-0.300000
691038.359256
3736466.582759
