0.300000
0.000000
0.000000
-0.300000
581623.640089
3665536.623120
