0.300000
0.000000
0.000000
-0.300000
587454.140089
3665590.623120
