0.300000
0.000000
0.000000
-0.300000
587392.040089
3672519.723120
