0.300000
0.000000
0.000000
-0.300000
581507.840089
3679395.423120
