0.300000
0.000000
0.000000
-0.300000
651486.140089
3673342.923120
