0.300000
0.000000
0.000000
-0.300000
505853.840089
3623580.423120
