0.300000
0.000000
0.000000
-0.300000
640030.340089
3659302.023120
