0.300000
0.000000
0.000000
-0.300000
645865.640089
3659390.523120
