0.300000
0.000000
0.000000
-0.300000
640129.340089
3652372.023120
