0.300000
0.000000
0.000000
-0.300000
645968.540089
3652460.523120
