0.300000
0.000000
0.000000
-0.300000
645762.440089
3666320.523120
