0.300000
0.000000
0.000000
-0.300000
546674.240089
3658357.323120
