0.300000
0.000000
0.000000
-0.300000
546641.240089
3665286.423120
