0.300000
0.000000
0.000000
-0.300000
679977.959256
3708510.482759
