0.300000
0.000000
0.000000
-0.300000
713731.559256
3757768.082759
