0.300000
0.000000
0.000000
-0.300000
534755.840089
3727594.323120
