0.300000
0.000000
0.000000
-0.300000
505833.440089
3658223.823120
