0.300000
0.000000
0.000000
-0.300000
505829.240089
3665152.623120
