0.300000
0.000000
0.000000
-0.300000
719669.759256
3750971.282759
