0.300000
0.000000
0.000000
-0.300000
725451.959256
3751110.482759
