0.300000
0.000000
0.000000
-0.300000
488208.140089
3561226.923120
