0.300000
0.000000
0.000000
-0.300000
494103.440089
3561221.823120
