0.300000
0.000000
0.000000
-0.300000
488216.240089
3568154.823120
