0.300000
0.000000
0.000000
-0.300000
582026.240089
3617033.523120
