0.300000
0.000000
0.000000
-0.300000
587885.540227
3617087.035985
