0.300000
0.000000
0.000000
-0.300000
511749.440089
3588947.523120
