0.300000
0.000000
0.000000
-0.300000
517624.640089
3588959.523120
