0.300000
0.000000
0.000000
-0.300000
517612.640089
3595887.723120
