0.300000
0.000000
0.000000
-0.300000
587639.540089
3644802.723120
