0.300000
0.000000
0.000000
-0.300000
581739.140089
3651678.123120
