0.300000
0.000000
0.000000
-0.300000
599185.640089
3658779.423120
